BEGIN:VCALENDAR
VERSION:2.0
PRODID:-//Village of Hainesville - ECPv6.15.20//NONSGML v1.0//EN
CALSCALE:GREGORIAN
METHOD:PUBLISH
X-WR-CALNAME:Village of Hainesville
X-ORIGINAL-URL:https://www.hainesville.org
X-WR-CALDESC:Events for Village of Hainesville
REFRESH-INTERVAL;VALUE=DURATION:PT1H
X-Robots-Tag:noindex
X-PUBLISHED-TTL:PT1H
BEGIN:VTIMEZONE
TZID:America/Chicago
BEGIN:DAYLIGHT
TZOFFSETFROM:-0600
TZOFFSETTO:-0500
TZNAME:CDT
DTSTART:20240310T080000
END:DAYLIGHT
BEGIN:STANDARD
TZOFFSETFROM:-0500
TZOFFSETTO:-0600
TZNAME:CST
DTSTART:20241103T070000
END:STANDARD
BEGIN:DAYLIGHT
TZOFFSETFROM:-0600
TZOFFSETTO:-0500
TZNAME:CDT
DTSTART:20250309T080000
END:DAYLIGHT
BEGIN:STANDARD
TZOFFSETFROM:-0500
TZOFFSETTO:-0600
TZNAME:CST
DTSTART:20251102T070000
END:STANDARD
BEGIN:DAYLIGHT
TZOFFSETFROM:-0600
TZOFFSETTO:-0500
TZNAME:CDT
DTSTART:20260308T080000
END:DAYLIGHT
BEGIN:STANDARD
TZOFFSETFROM:-0500
TZOFFSETTO:-0600
TZNAME:CST
DTSTART:20261101T070000
END:STANDARD
END:VTIMEZONE
BEGIN:VEVENT
DTSTART;TZID=America/Chicago:20250325T183000
DTEND;TZID=America/Chicago:20250325T193000
DTSTAMP:20260423T040334
CREATED:20241205T172911Z
LAST-MODIFIED:20250127T213021Z
UID:17826-1742927400-1742931000@www.hainesville.org
SUMMARY:Board Meeting VH
DESCRIPTION:
URL:https://www.hainesville.org/event/board-meeting-vh-7/
LOCATION:Village Hall\, 100 N Hainesville Road\, Hainesville\, IL\, 60030
CATEGORIES:Board Meetings,Official Meetings
END:VEVENT
END:VCALENDAR